BEGIN:VCALENDAR
VERSION:2.0
PRODID:-//jEvents 2.0 for Joomla//EN
CALSCALE:GREGORIAN
METHOD:PUBLISH
BEGIN:VEVENT
UID:ac78e5b7cd00c3bdb5008249444641bf
CATEGORIES:Schüler
CREATED:20210121T133106
SUMMARY:Ausgabe der Halbjahreszeugnisse
DESCRIPTION:
DTSTAMP:20260419T180651Z
DTSTART;VALUE=DATE:20260130
DTEND;VALUE=DATE:20260131
SEQUENCE:0
TRANSP:OPAQUE
END:VEVENT
END:VCALENDAR