BEGIN:VCALENDAR
VERSION:2.0
PRODID:-//jEvents 2.0 for Joomla//EN
CALSCALE:GREGORIAN
METHOD:PUBLISH
BEGIN:VEVENT
UID:3a0d34c2caef6d74ec07ba11f5458bb1
CATEGORIES:Lehrer
CREATED:20230103T121340
SUMMARY:Zensurenkonferenz
DESCRIPTION:
DTSTAMP:20260423T101247Z
DTSTART:20260126T143000Z
SEQUENCE:0
TRANSP:OPAQUE
END:VEVENT
END:VCALENDAR