BEGIN:VCALENDAR
VERSION:2.0
PRODID:-//jEvents 2.0 for Joomla//EN
CALSCALE:GREGORIAN
METHOD:PUBLISH
BEGIN:VEVENT
UID:2890e0c66e1821a33a798a0beac26a64
CATEGORIES:Schüler
CREATED:20230615T094635
SUMMARY:10b, 10d: Feierliche Zeugnisausgabe
DESCRIPTION:
DTSTAMP:20260423T084234Z
DTSTART:20250722T163000Z
SEQUENCE:0
TRANSP:OPAQUE
END:VEVENT
END:VCALENDAR