BEGIN:VCALENDAR
VERSION:2.0
PRODID:-//jEvents 2.0 for Joomla//EN
CALSCALE:GREGORIAN
METHOD:PUBLISH
BEGIN:VEVENT
UID:03d9625162e423d55a3f8f09f06e8ce3
CATEGORIES:Schüler
CREATED:20231002T091908
SUMMARY:Variabler Ferientag
DESCRIPTION:
DTSTAMP:20260421T224128Z
DTSTART;VALUE=DATE:20260515
DTEND;VALUE=DATE:20260516
SEQUENCE:0
TRANSP:OPAQUE
END:VEVENT
END:VCALENDAR